{
 "currentVersion": 10.91,
 "serviceDescription": "Grundkarte Burgenland: DKM + Flächenwidmungsplan",
 "mapName": "Grundkarte",
 "description": "",
 "copyrightText": "GeoDATEN Burgenland",
 "supportsDynamicLayers": false,
 "layers": [
  {
   "id": 0,
   "name": "Sonstige Beschriftungen",
   "parentLayerId": -1,
   "defaultVisibility": true,
   "subLayerIds": [
    1,
    7,
    12
   ],
   "minScale": 0,
   "maxScale": 0,
   "type": "Group Layer"
  },
  {
   "id": 1,
   "name": "Gebiet",
   "parentLayerId": 0,
   "defaultVisibility": true,
   "subLayerIds": [
    2,
    3,
    4,
    5,
    6
   ],
   "minScale": 0,
   "maxScale": 0,
   "type": "Group Layer"
  },
  {
   "id": 2,
   "name": "Gebiet 15K - < 25K",
   "parentLayerId": 1,
   "defaultVisibility": true,
   "subLayerIds": null,
   "minScale": 24999,
   "maxScale": 15000,
   "type": "Feature Layer",
   "geometryType": "esriGeometryPoint"
  },
  {
   "id": 3,
   "name": "Gebiet 25K - <100K",
   "parentLayerId": 1,
   "defaultVisibility": true,
   "subLayerIds": null,
   "minScale": 99999,
   "maxScale": 25000,
   "type": "Feature Layer",
   "geometryType": "esriGeometryPoint"
  },
  {
   "id": 4,
   "name": "Gebiet 100K - <150K",
   "parentLayerId": 1,
   "defaultVisibility": true,
   "subLayerIds": null,
   "minScale": 149999,
   "maxScale": 100000,
   "type": "Feature Layer",
   "geometryType": "esriGeometryPoint"
  },
  {
   "id": 5,
   "name": "Gebiet 150K - <250K",
   "parentLayerId": 1,
   "defaultVisibility": true,
   "subLayerIds": null,
   "minScale": 249999,
   "maxScale": 150000,
   "type": "Feature Layer",
   "geometryType": "esriGeometryPoint"
  },
  {
   "id": 6,
   "name": "Gebiet 250K - <300K",
   "parentLayerId": 1,
   "defaultVisibility": true,
   "subLayerIds": null,
   "minScale": 300000,
   "maxScale": 250000,
   "type": "Feature Layer",
   "geometryType": "esriGeometryPoint"
  },
  {
   "id": 7,
   "name": "Geländeform",
   "parentLayerId": 0,
   "defaultVisibility": true,
   "subLayerIds": [
    8,
    9,
    10,
    11
   ],
   "minScale": 0,
   "maxScale": 0,
   "type": "Group Layer"
  },
  {
   "id": 8,
   "name": "Geländeform < 100K",
   "parentLayerId": 7,
   "defaultVisibility": true,
   "subLayerIds": null,
   "minScale": 99990,
   "maxScale": 150000,
   "type": "Feature Layer",
   "geometryType": "esriGeometryPoint"
  },
  {
   "id": 9,
   "name": "Geländeform 100K - < 150 K",
   "parentLayerId": 7,
   "defaultVisibility": true,
   "subLayerIds": null,
   "minScale": 99990,
   "maxScale": 150000,
   "type": "Feature Layer",
   "geometryType": "esriGeometryPoint"
  },
  {
   "id": 10,
   "name": "Geländeform 150K - <250K",
   "parentLayerId": 7,
   "defaultVisibility": true,
   "subLayerIds": null,
   "minScale": 249999,
   "maxScale": 150000,
   "type": "Feature Layer",
   "geometryType": "esriGeometryPoint"
  },
  {
   "id": 11,
   "name": "Geländeform 250K - <300K",
   "parentLayerId": 7,
   "defaultVisibility": true,
   "subLayerIds": null,
   "minScale": 299999,
   "maxScale": 250000,
   "type": "Feature Layer",
   "geometryType": "esriGeometryPoint"
  },
  {
   "id": 12,
   "name": "Stehende Gewässer",
   "parentLayerId": 0,
   "defaultVisibility": true,
   "subLayerIds": null,
   "minScale": 150000,
   "maxScale": 0,
   "type": "Feature Layer",
   "geometryType": "esriGeometryPoint"
  },
  {
   "id": 13,
   "name": "Straßennetz",
   "parentLayerId": -1,
   "defaultVisibility": true,
   "subLayerIds": [
    14,
    15,
    16,
    17
   ],
   "minScale": 150000,
   "maxScale": 0,
   "type": "Group Layer"
  },
  {
   "id": 14,
   "name": "Strassen",
   "parentLayerId": 13,
   "defaultVisibility": true,
   "subLayerIds": null,
   "minScale": 150000,
   "maxScale": 0,
   "type": "Feature Layer",
   "geometryType": "esriGeometryPolyline"
  },
  {
   "id": 15,
   "name": "Gemeindestraßen L3",
   "parentLayerId": 13,
   "defaultVisibility": true,
   "subLayerIds": null,
   "minScale": 4520,
   "maxScale": 1510,
   "type": "Feature Layer",
   "geometryType": "esriGeometryPolyline"
  },
  {
   "id": 16,
   "name": "Gemeindestraßen L1-2",
   "parentLayerId": 13,
   "defaultVisibility": true,
   "subLayerIds": null,
   "minScale": 1500,
   "maxScale": 0,
   "type": "Feature Layer",
   "geometryType": "esriGeometryPolyline"
  },
  {
   "id": 17,
   "name": "Eisenbahn",
   "parentLayerId": 13,
   "defaultVisibility": true,
   "subLayerIds": null,
   "minScale": 0,
   "maxScale": 0,
   "type": "Feature Layer",
   "geometryType": "esriGeometryPolyline"
  },
  {
   "id": 18,
   "name": "Hausnummer",
   "parentLayerId": -1,
   "defaultVisibility": true,
   "subLayerIds": null,
   "minScale": 1130,
   "maxScale": 0,
   "type": "Feature Layer",
   "geometryType": "esriGeometryPoint"
  },
  {
   "id": 19,
   "name": "Verwaltungsgrenzen",
   "parentLayerId": -1,
   "defaultVisibility": true,
   "subLayerIds": [
    20,
    21,
    22,
    23,
    24,
    25
   ],
   "minScale": 0,
   "maxScale": 0,
   "type": "Group Layer"
  },
  {
   "id": 20,
   "name": "Staatsgrenze",
   "parentLayerId": 19,
   "defaultVisibility": true,
   "subLayerIds": null,
   "minScale": 0,
   "maxScale": 0,
   "type": "Feature Layer",
   "geometryType": "esriGeometryPolyline"
  },
  {
   "id": 21,
   "name": "DKM.GISDATA.Landesgrenzen",
   "parentLayerId": 19,
   "defaultVisibility": true,
   "subLayerIds": null,
   "minScale": 0,
   "maxScale": 0,
   "type": "Feature Layer",
   "geometryType": "esriGeometryPolygon"
  },
  {
   "id": 22,
   "name": "Bezirke",
   "parentLayerId": 19,
   "defaultVisibility": true,
   "subLayerIds": null,
   "minScale": 1000000,
   "maxScale": 20000,
   "type": "Feature Layer",
   "geometryType": "esriGeometryPolygon"
  },
  {
   "id": 23,
   "name": "Gemeindenamen",
   "parentLayerId": 19,
   "defaultVisibility": true,
   "subLayerIds": null,
   "minScale": 144449,
   "maxScale": 10000,
   "type": "Feature Layer",
   "geometryType": "esriGeometryPoint"
  },
  {
   "id": 24,
   "name": "Gemeinden",
   "parentLayerId": 19,
   "defaultVisibility": true,
   "subLayerIds": null,
   "minScale": 144449,
   "maxScale": 0,
   "type": "Feature Layer",
   "geometryType": "esriGeometryPolygon"
  },
  {
   "id": 25,
   "name": "Katastralgemeinden",
   "parentLayerId": 19,
   "defaultVisibility": true,
   "subLayerIds": null,
   "minScale": 99999,
   "maxScale": 0,
   "type": "Feature Layer",
   "geometryType": "esriGeometryPolygon"
  },
  {
   "id": 26,
   "name": "DKM",
   "parentLayerId": -1,
   "defaultVisibility": true,
   "subLayerIds": [
    27,
    28,
    29,
    30,
    31,
    32
   ],
   "minScale": 0,
   "maxScale": 0,
   "type": "Group Layer"
  },
  {
   "id": 27,
   "name": "Grundstuecksnummern",
   "parentLayerId": 26,
   "defaultVisibility": true,
   "subLayerIds": null,
   "minScale": 2500,
   "maxScale": 0,
   "type": "Feature Layer",
   "geometryType": "esriGeometryPoint"
  },
  {
   "id": 28,
   "name": "Nutzungsgrenzen u. sonstige Linien",
   "parentLayerId": 26,
   "defaultVisibility": false,
   "subLayerIds": null,
   "minScale": 2200,
   "maxScale": 0,
   "type": "Feature Layer",
   "geometryType": "esriGeometryPolyline"
  },
  {
   "id": 29,
   "name": "Nutzungssymbole",
   "parentLayerId": 26,
   "defaultVisibility": false,
   "subLayerIds": null,
   "minScale": 1510,
   "maxScale": 0,
   "type": "Feature Layer",
   "geometryType": "esriGeometryPoint"
  },
  {
   "id": 30,
   "name": "Sonstige Symbole und Beschriftung",
   "parentLayerId": 26,
   "defaultVisibility": false,
   "subLayerIds": null,
   "minScale": 1010,
   "maxScale": 0,
   "type": "Feature Layer",
   "geometryType": "esriGeometryPoint"
  },
  {
   "id": 31,
   "name": "Grundstuecke",
   "parentLayerId": 26,
   "defaultVisibility": true,
   "subLayerIds": null,
   "minScale": 5050,
   "maxScale": 0,
   "type": "Feature Layer",
   "geometryType": "esriGeometryPolygon"
  },
  {
   "id": 32,
   "name": "Gebaeude",
   "parentLayerId": 26,
   "defaultVisibility": true,
   "subLayerIds": null,
   "minScale": 5050,
   "maxScale": 0,
   "type": "Feature Layer",
   "geometryType": "esriGeometryPolygon"
  },
  {
   "id": 33,
   "name": "FLAEWI",
   "parentLayerId": -1,
   "defaultVisibility": true,
   "subLayerIds": [
    34,
    35,
    36,
    37,
    38,
    39,
    40,
    41,
    42,
    43,
    44,
    45
   ],
   "minScale": 0,
   "maxScale": 0,
   "type": "Group Layer"
  },
  {
   "id": 34,
   "name": "Geschütztes Einzelobjekt",
   "parentLayerId": 33,
   "defaultVisibility": true,
   "subLayerIds": null,
   "minScale": 10010,
   "maxScale": 0,
   "type": "Feature Layer",
   "geometryType": "esriGeometryPoint"
  },
  {
   "id": 35,
   "name": "Sonstige punktförmige Informationen (Einzelobjekte, Texte, ...)",
   "parentLayerId": 33,
   "defaultVisibility": true,
   "subLayerIds": null,
   "minScale": 24000,
   "maxScale": 0,
   "type": "Feature Layer",
   "geometryType": "esriGeometryPoint"
  },
  {
   "id": 36,
   "name": "Infrasturktur Einzelobjekte",
   "parentLayerId": 33,
   "defaultVisibility": true,
   "subLayerIds": null,
   "minScale": 10010,
   "maxScale": 0,
   "type": "Feature Layer",
   "geometryType": "esriGeometryPoint"
  },
  {
   "id": 37,
   "name": "Lineare Infrastruktur (Leitungen, ...)",
   "parentLayerId": 33,
   "defaultVisibility": true,
   "subLayerIds": null,
   "minScale": 24000,
   "maxScale": 0,
   "type": "Feature Layer",
   "geometryType": "esriGeometryPolyline"
  },
  {
   "id": 38,
   "name": "Sonstige lineare Information (z.B. geplante HV-Leitung)",
   "parentLayerId": 33,
   "defaultVisibility": true,
   "subLayerIds": null,
   "minScale": 24000,
   "maxScale": 0,
   "type": "Feature Layer",
   "geometryType": "esriGeometryPolyline"
  },
  {
   "id": 39,
   "name": "Sonstige flächenhafte Information",
   "parentLayerId": 33,
   "defaultVisibility": true,
   "subLayerIds": null,
   "minScale": 24000,
   "maxScale": 0,
   "type": "Feature Layer",
   "geometryType": "esriGeometryPolygon"
  },
  {
   "id": 40,
   "name": "Naturgefahren",
   "parentLayerId": 33,
   "defaultVisibility": true,
   "subLayerIds": null,
   "minScale": 24000,
   "maxScale": 0,
   "type": "Feature Layer",
   "geometryType": "esriGeometryPolygon"
  },
  {
   "id": 41,
   "name": "Militärisch genutzte Fläche",
   "parentLayerId": 33,
   "defaultVisibility": true,
   "subLayerIds": null,
   "minScale": 24000,
   "maxScale": 0,
   "type": "Feature Layer",
   "geometryType": "esriGeometryPolygon"
  },
  {
   "id": 42,
   "name": "Schutz- und Sicherheits- sowie Beschränkungsbereiche betreffend Infrastruktureinrichtungen",
   "parentLayerId": 33,
   "defaultVisibility": true,
   "subLayerIds": null,
   "minScale": 24000,
   "maxScale": 0,
   "type": "Feature Layer",
   "geometryType": "esriGeometryPolygon"
  },
  {
   "id": 43,
   "name": "Schutz- und Schongebiete (Natur-, Landschafts-, Trinkwasser-, Heilmoor, ...)",
   "parentLayerId": 33,
   "defaultVisibility": true,
   "subLayerIds": null,
   "minScale": 24000,
   "maxScale": 0,
   "type": "Feature Layer",
   "geometryType": "esriGeometryPolygon"
  },
  {
   "id": 44,
   "name": "Widmungen, Vorrangflächen und widmungsgleiche Kenntlichmachungen",
   "parentLayerId": 33,
   "defaultVisibility": true,
   "subLayerIds": null,
   "minScale": 24000,
   "maxScale": 0,
   "type": "Feature Layer",
   "geometryType": "esriGeometryPolygon"
  },
  {
   "id": 45,
   "name": "Generalisierte Widmungen",
   "parentLayerId": 33,
   "defaultVisibility": true,
   "subLayerIds": null,
   "minScale": 0,
   "maxScale": 24001,
   "type": "Feature Layer",
   "geometryType": "esriGeometryPolygon"
  },
  {
   "id": 46,
   "name": "Verwaltungsgrenzen Österreich",
   "parentLayerId": -1,
   "defaultVisibility": true,
   "subLayerIds": [
    47,
    48,
    49
   ],
   "minScale": 0,
   "maxScale": 0,
   "type": "Group Layer"
  },
  {
   "id": 47,
   "name": "DKM.GISDATA.Staatsgebiet",
   "parentLayerId": 46,
   "defaultVisibility": true,
   "subLayerIds": null,
   "minScale": 0,
   "maxScale": 0,
   "type": "Feature Layer",
   "geometryType": "esriGeometryPolygon"
  },
  {
   "id": 48,
   "name": "DKM.GISDATA.Bundeslaender",
   "parentLayerId": 46,
   "defaultVisibility": true,
   "subLayerIds": null,
   "minScale": 0,
   "maxScale": 0,
   "type": "Feature Layer",
   "geometryType": "esriGeometryPolygon"
  },
  {
   "id": 49,
   "name": "DKM.GISDATA.Gemeinden",
   "parentLayerId": 46,
   "defaultVisibility": true,
   "subLayerIds": null,
   "minScale": 72250,
   "maxScale": 0,
   "type": "Feature Layer",
   "geometryType": "esriGeometryPolygon"
  }
 ],
 "tables": [
  {
   "id": 50,
   "name": "FLAEWI.GISDATA.FLAEWICODES",
   "type": "Table"
  }
 ],
 "spatialReference": {
  "wkid": 102100,
  "latestWkid": 3857
 },
 "singleFusedMapCache": true,
 "tileInfo": {
  "rows": 256,
  "cols": 256,
  "dpi": 96,
  "format": "PNG8",
  "compressionQuality": 0,
  "origin": {
   "x": -2.0037508342787E7,
   "y": 2.0037508342787E7
  },
  "spatialReference": {
   "wkid": 102100,
   "latestWkid": 3857
  },
  "lods": [
   {
    "level": 0,
    "resolution": 156543.03392800014,
    "scale": 5.91657527591555E8
   },
   {
    "level": 1,
    "resolution": 78271.51696399994,
    "scale": 2.95828763795777E8
   },
   {
    "level": 2,
    "resolution": 39135.75848200009,
    "scale": 1.47914381897889E8
   },
   {
    "level": 3,
    "resolution": 19567.87924099992,
    "scale": 7.3957190948944E7
   },
   {
    "level": 4,
    "resolution": 9783.93962049996,
    "scale": 3.6978595474472E7
   },
   {
    "level": 5,
    "resolution": 4891.96981024998,
    "scale": 1.8489297737236E7
   },
   {
    "level": 6,
    "resolution": 2445.98490512499,
    "scale": 9244648.868618
   },
   {
    "level": 7,
    "resolution": 1222.992452562495,
    "scale": 4622324.434309
   },
   {
    "level": 8,
    "resolution": 611.4962262813797,
    "scale": 2311162.217155
   },
   {
    "level": 9,
    "resolution": 305.74811314055756,
    "scale": 1155581.108577
   },
   {
    "level": 10,
    "resolution": 152.87405657041106,
    "scale": 577790.554289
   },
   {
    "level": 11,
    "resolution": 76.43702828507324,
    "scale": 288895.277144
   },
   {
    "level": 12,
    "resolution": 38.21851414253662,
    "scale": 144447.638572
   },
   {
    "level": 13,
    "resolution": 19.10925707126831,
    "scale": 72223.819286
   },
   {
    "level": 14,
    "resolution": 9.554628535634155,
    "scale": 36111.909643
   },
   {
    "level": 15,
    "resolution": 4.77731426794937,
    "scale": 18055.954822
   },
   {
    "level": 16,
    "resolution": 2.388657133974685,
    "scale": 9027.977411
   },
   {
    "level": 17,
    "resolution": 1.1943285668550503,
    "scale": 4513.988705
   },
   {
    "level": 18,
    "resolution": 0.5971642835598172,
    "scale": 2256.994353
   },
   {
    "level": 19,
    "resolution": 0.29858214164761665,
    "scale": 1128.497176
   },
   {
    "level": 20,
    "resolution": 0.14929107082380833,
    "scale": 564.248588
   },
   {
    "level": 21,
    "resolution": 0.07464553541190416,
    "scale": 282.124294
   },
   {
    "level": 22,
    "resolution": 0.03732276770595208,
    "scale": 141.062147
   },
   {
    "level": 23,
    "resolution": 0.01866138385297604,
    "scale": 70.5310735
   }
  ]
 },
 "initialExtent": {
  "xmin": 1691929.73268204,
  "ymin": 5855597.369412658,
  "xmax": 2118572.9348426294,
  "ymax": 6038991.697614123,
  "spatialReference": {
   "wkid": 102100,
   "latestWkid": 3857
  }
 },
 "fullExtent": {
  "xmin": 1595204.7867376641,
  "ymin": 5880049.410062244,
  "xmax": 2066858.607308013,
  "ymax": 6166330.78500596,
  "spatialReference": {
   "wkid": 102100,
   "latestWkid": 3857
  }
 },
 "minScale": 5.91657527591555E8,
 "maxScale": 1128.497176,
 "minLOD": 0,
 "maxLOD": 19,
 "units": "esriMeters",
 "supportedImageFormatTypes": "PNG32,PNG24,PNG,JPG,DIB,TIFF,EMF,PS,PDF,GIF,SVG,SVGZ,BMP",
 "documentInfo": {
  "Title": "Grundkarte",
  "Author": "GeoDATEN Burgenland",
  "Comments": "Grundkarte Burgenland: DKM + Flächenwidmungsplan",
  "Subject": "Grundkarte Burgenland",
  "Category": "",
  "AntialiasingMode": "None",
  "TextAntialiasingMode": "Force",
  "Keywords": "Grundkarte Flächenwidmungsplan DKM"
 },
 "capabilities": "Map,Query,Data",
 "supportedQueryFormats": "JSON, geoJSON",
 "exportTilesAllowed": true,
 "maxExportTilesCount": 100000,
 "referenceScale": 1000,
 "datumTransformations": [
  {
   "geoTransforms": [
    {
     "wkid": 108001,
     "latestWkid": 1241,
     "transformForward": true,
     "name": "NAD_1927_To_NAD_1983_NADCON"
    }
   ]
  },
  {
   "geoTransforms": [
    {
     "wkid": 108001,
     "latestWkid": 1241,
     "transformForward": false,
     "name": "NAD_1927_To_NAD_1983_NADCON"
    }
   ]
  },
  {
   "geoTransforms": [
    {
     "wkid": 1618,
     "latestWkid": 1618,
     "transformForward": true,
     "name": "MGI_To_WGS_1984_3"
    }
   ]
  },
  {
   "geoTransforms": [
    {
     "wkid": 1618,
     "latestWkid": 1618,
     "transformForward": false,
     "name": "MGI_To_WGS_1984_3"
    }
   ]
  }
 ],
 "supportsDatumTransformation": true,
 "maxRecordCount": 1000,
 "maxImageHeight": 4096,
 "maxImageWidth": 4096,
 "supportedExtensions": "WMSServer"
}
