{
 "currentVersion": 10.91,
 "serviceDescription": "Orthofoto Stand 2019",
 "mapName": "Orthofoto",
 "description": "",
 "copyrightText": "GeoDaten Burgenland",
 "supportsDynamicLayers": false,
 "layers": [
  {
   "id": 0,
   "name": "Abdeckung",
   "parentLayerId": -1,
   "defaultVisibility": true,
   "subLayerIds": null,
   "minScale": 0,
   "maxScale": 0,
   "type": "Feature Layer",
   "geometryType": "esriGeometryPolygon"
  },
  {
   "id": 1,
   "name": "Orthofoto",
   "parentLayerId": -1,
   "defaultVisibility": true,
   "subLayerIds": null,
   "minScale": 99990,
   "maxScale": 0,
   "type": "Raster Layer"
  },
  {
   "id": 2,
   "name": "Satellitenbild",
   "parentLayerId": -1,
   "defaultVisibility": true,
   "subLayerIds": null,
   "minScale": 0,
   "maxScale": 99990,
   "type": "Raster Catalog Layer",
   "geometryType": "esriGeometryPolygon"
  }
 ],
 "tables": [],
 "spatialReference": {
  "wkid": 31259,
  "latestWkid": 31259
 },
 "singleFusedMapCache": true,
 "tileInfo": {
  "rows": 256,
  "cols": 256,
  "dpi": 96,
  "format": "JPEG",
  "compressionQuality": 75,
  "origin": {
   "x": 0,
   "y": 1000000
  },
  "spatialReference": {
   "wkid": 31259,
   "latestWkid": 31259
  },
  "lods": [
   {
    "level": 0,
    "resolution": 529.1677250021168,
    "scale": 2000000
   },
   {
    "level": 1,
    "resolution": 264.5838625010584,
    "scale": 1000000
   },
   {
    "level": 2,
    "resolution": 132.2919312505292,
    "scale": 500000
   },
   {
    "level": 3,
    "resolution": 66.1459656252646,
    "scale": 250000
   },
   {
    "level": 4,
    "resolution": 26.458386250105836,
    "scale": 100000
   },
   {
    "level": 5,
    "resolution": 13.229193125052918,
    "scale": 50000
   },
   {
    "level": 6,
    "resolution": 6.614596562526459,
    "scale": 25000
   },
   {
    "level": 7,
    "resolution": 3.9687579375158752,
    "scale": 15000
   },
   {
    "level": 8,
    "resolution": 2.6458386250105836,
    "scale": 10000
   },
   {
    "level": 9,
    "resolution": 1.3229193125052918,
    "scale": 5000
   },
   {
    "level": 10,
    "resolution": 0.5291677250021167,
    "scale": 2000
   },
   {
    "level": 11,
    "resolution": 0.26458386250105836,
    "scale": 1000
   },
   {
    "level": 12,
    "resolution": 0.13229193125052918,
    "scale": 500
   }
  ]
 },
 "initialExtent": {
  "xmin": 616951.7822558084,
  "ymin": 228985.15917557507,
  "xmax": 938156.5913320933,
  "ymax": 370537.5256136413,
  "spatialReference": {
   "wkid": 31259,
   "latestWkid": 31259
  }
 },
 "fullExtent": {
  "xmin": 639970.5782934005,
  "ymin": 171305.87715034434,
  "xmax": 903496.1053444546,
  "ymax": 334554.12031349726,
  "spatialReference": {
   "wkid": 31259,
   "latestWkid": 31259
  }
 },
 "minScale": 2000000,
 "maxScale": 500,
 "minLOD": 0,
 "maxLOD": 12,
 "units": "esriMeters",
 "supportedImageFormatTypes": "PNG32,PNG24,PNG,JPG,DIB,TIFF,EMF,PS,PDF,GIF,SVG,SVGZ,BMP",
 "documentInfo": {
  "Title": "Orhtofoto",
  "Author": "GeoDATEN Burgenland",
  "Comments": "Orthofoto Stand 2010",
  "Subject": "Orthofoto",
  "Category": "",
  "AntialiasingMode": "None",
  "TextAntialiasingMode": "Force",
  "Keywords": "Orthofoto"
 },
 "capabilities": "Map,Query,Data",
 "supportedQueryFormats": "JSON, geoJSON",
 "exportTilesAllowed": true,
 "maxExportTilesCount": 1000000,
 "referenceScale": 0,
 "datumTransformations": [
  {
   "geoTransforms": [
    {
     "wkid": 108001,
     "latestWkid": 1241,
     "transformForward": true,
     "name": "NAD_1927_To_NAD_1983_NADCON"
    }
   ]
  },
  {
   "geoTransforms": [
    {
     "wkid": 108001,
     "latestWkid": 1241,
     "transformForward": false,
     "name": "NAD_1927_To_NAD_1983_NADCON"
    }
   ]
  },
  {
   "geoTransforms": [
    {
     "wkid": 1618,
     "latestWkid": 1618,
     "transformForward": true,
     "name": "MGI_To_WGS_1984_3"
    }
   ]
  },
  {
   "geoTransforms": [
    {
     "wkid": 1618,
     "latestWkid": 1618,
     "transformForward": false,
     "name": "MGI_To_WGS_1984_3"
    }
   ]
  },
  {
   "geoTransforms": [
    {
     "wkid": 1619,
     "latestWkid": 1619,
     "transformForward": true,
     "name": "MGI_To_ETRS_1989_1"
    }
   ]
  },
  {
   "geoTransforms": [
    {
     "wkid": 1619,
     "latestWkid": 1619,
     "transformForward": false,
     "name": "MGI_To_ETRS_1989_1"
    }
   ]
  }
 ],
 "supportsDatumTransformation": true,
 "maxRecordCount": 1000,
 "maxImageHeight": 4096,
 "maxImageWidth": 4096,
 "supportedExtensions": "WMSServer",
 "resampling": false
}
